BEGIN:VCALENDAR
VERSION:2.0
PRODID:-//The Best Preschool and Kindergarten for the Arvada / Wheat Ridge / Denver Metro Area - ECPv6.15.20//NONSGML v1.0//EN
CALSCALE:GREGORIAN
METHOD:PUBLISH
X-ORIGINAL-URL:https://www.arvadapreschool.com
X-WR-CALDESC:Events for The Best Preschool and Kindergarten for the Arvada / Wheat Ridge / Denver Metro Area
REFRESH-INTERVAL;VALUE=DURATION:PT1H
X-Robots-Tag:noindex
X-PUBLISHED-TTL:PT1H
BEGIN:VTIMEZONE
TZID:America/Denver
BEGIN:DAYLIGHT
TZOFFSETFROM:-0700
TZOFFSETTO:-0600
TZNAME:MDT
DTSTART:20160313T090000
END:DAYLIGHT
BEGIN:STANDARD
TZOFFSETFROM:-0600
TZOFFSETTO:-0700
TZNAME:MST
DTSTART:20161106T080000
END:STANDARD
BEGIN:DAYLIGHT
TZOFFSETFROM:-0700
TZOFFSETTO:-0600
TZNAME:MDT
DTSTART:20170312T090000
END:DAYLIGHT
BEGIN:STANDARD
TZOFFSETFROM:-0600
TZOFFSETTO:-0700
TZNAME:MST
DTSTART:20171105T080000
END:STANDARD
BEGIN:DAYLIGHT
TZOFFSETFROM:-0700
TZOFFSETTO:-0600
TZNAME:MDT
DTSTART:20180311T090000
END:DAYLIGHT
BEGIN:STANDARD
TZOFFSETFROM:-0600
TZOFFSETTO:-0700
TZNAME:MST
DTSTART:20181104T080000
END:STANDARD
END:VTIMEZONE
BEGIN:VEVENT
DTSTART;VALUE=DATE:20170704
DTEND;VALUE=DATE:20170705
DTSTAMP:20260425T073453
CREATED:20160913T195034Z
LAST-MODIFIED:20160913T195205Z
UID:2560-1499126400-1499212799@www.arvadapreschool.com
SUMMARY:Fourth of July - No School
DESCRIPTION:Happy Birthday\, America!
URL:https://www.arvadapreschool.com/event/fourth-of-july/
CATEGORIES:School Calendar
END:VEVENT
BEGIN:VEVENT
DTSTART;VALUE=DATE:20170705
DTEND;VALUE=DATE:20170706
DTSTAMP:20260425T073453
CREATED:20170606T032328Z
LAST-MODIFIED:20170606T032328Z
UID:3750-1499212800-1499299199@www.arvadapreschool.com
SUMMARY:Bring a t-shirt to tye dye
DESCRIPTION:Day Camp
URL:https://www.arvadapreschool.com/event/bring-a-t-shirt-to-tye-dye-2/
CATEGORIES:DayCamp,School Calendar
END:VEVENT
BEGIN:VEVENT
DTSTART;VALUE=DATE:20170706
DTEND;VALUE=DATE:20170707
DTSTAMP:20260425T073453
CREATED:20170606T032359Z
LAST-MODIFIED:20170606T032359Z
UID:3730-1499299200-1499385599@www.arvadapreschool.com
SUMMARY:Show and tell
DESCRIPTION:Day Camp
URL:https://www.arvadapreschool.com/event/show-and-tell-2/
CATEGORIES:DayCamp,School Calendar
END:VEVENT
BEGIN:VEVENT
DTSTART;VALUE=DATE:20170707
DTEND;VALUE=DATE:20170708
DTSTAMP:20260425T073453
CREATED:20170606T032448Z
LAST-MODIFIED:20170606T032448Z
UID:3756-1499385600-1499471999@www.arvadapreschool.com
SUMMARY:Picnic at the park
DESCRIPTION:Day Camp:  Popsicles / Water Play
URL:https://www.arvadapreschool.com/event/picnic-at-the-park-6/
CATEGORIES:DayCamp,School Calendar
END:VEVENT
BEGIN:VEVENT
DTSTART;VALUE=DATE:20170710
DTEND;VALUE=DATE:20170711
DTSTAMP:20260425T073453
CREATED:20170606T032521Z
LAST-MODIFIED:20170606T032521Z
UID:3732-1499644800-1499731199@www.arvadapreschool.com
SUMMARY:Picnic at the park
DESCRIPTION:Day Camp
URL:https://www.arvadapreschool.com/event/picnic-at-the-park-7/
CATEGORIES:DayCamp,School Calendar
END:VEVENT
BEGIN:VEVENT
DTSTART;VALUE=DATE:20170711
DTEND;VALUE=DATE:20170712
DTSTAMP:20260425T073453
CREATED:20170606T032626Z
LAST-MODIFIED:20170606T032626Z
UID:3734-1499731200-1499817599@www.arvadapreschool.com
SUMMARY:Walk to Pet Store
DESCRIPTION:Day Camp:   And Water Play!!
URL:https://www.arvadapreschool.com/event/walk-to-pet-store/
CATEGORIES:DayCamp,School Calendar
END:VEVENT
BEGIN:VEVENT
DTSTART;VALUE=DATE:20170712
DTEND;VALUE=DATE:20170713
DTSTAMP:20260425T073453
CREATED:20170606T033021Z
LAST-MODIFIED:20170606T033021Z
UID:3769-1499817600-1499903999@www.arvadapreschool.com
SUMMARY:Cooking Activity
DESCRIPTION:Day Camp:  And Water Play!!!
URL:https://www.arvadapreschool.com/event/cooking-activity/
CATEGORIES:DayCamp,School Calendar
END:VEVENT
BEGIN:VEVENT
DTSTART;VALUE=DATE:20170713
DTEND;VALUE=DATE:20170714
DTSTAMP:20260425T073453
CREATED:20170606T032706Z
LAST-MODIFIED:20170606T032706Z
UID:3736-1499904000-1499990399@www.arvadapreschool.com
SUMMARY:Bikes\, Blades and Boards (MUST HAVE HELMETS)
DESCRIPTION:Day Camp
URL:https://www.arvadapreschool.com/event/bikes-blades-and-boards-must-have-helmets/
CATEGORIES:DayCamp,School Calendar
END:VEVENT
BEGIN:VEVENT
DTSTART;VALUE=DATE:20170714
DTEND;VALUE=DATE:20170715
DTSTAMP:20260425T073453
CREATED:20170606T032748Z
LAST-MODIFIED:20170606T032748Z
UID:3737-1499990400-1500076799@www.arvadapreschool.com
SUMMARY:Picnic at the Park
DESCRIPTION:Day Camp:  Popsicles / Water Play
URL:https://www.arvadapreschool.com/event/picnic-at-the-park-8/
CATEGORIES:DayCamp,School Calendar
END:VEVENT
BEGIN:VEVENT
DTSTART;VALUE=DATE:20170717
DTEND;VALUE=DATE:20170718
DTSTAMP:20260425T073453
CREATED:20170606T033253Z
LAST-MODIFIED:20170606T033253Z
UID:3742-1500249600-1500335999@www.arvadapreschool.com
SUMMARY:Picnic at the park
DESCRIPTION:Day Camp
URL:https://www.arvadapreschool.com/event/picnic-at-the-park-9/
CATEGORIES:School Calendar
END:VEVENT
BEGIN:VEVENT
DTSTART;VALUE=DATE:20170718
DTEND;VALUE=DATE:20170719
DTSTAMP:20260425T073453
CREATED:20170606T033308Z
LAST-MODIFIED:20170606T033308Z
UID:3738-1500336000-1500422399@www.arvadapreschool.com
SUMMARY:Show and Tell
DESCRIPTION:Day Camp
URL:https://www.arvadapreschool.com/event/show-and-tell-3/
CATEGORIES:School Calendar
END:VEVENT
BEGIN:VEVENT
DTSTART;VALUE=DATE:20170719
DTEND;VALUE=DATE:20170720
DTSTAMP:20260425T073453
CREATED:20170606T033321Z
LAST-MODIFIED:20170606T033321Z
UID:3739-1500422400-1500508799@www.arvadapreschool.com
SUMMARY:Water Slide
DESCRIPTION:Day Camp
URL:https://www.arvadapreschool.com/event/water-slide/
CATEGORIES:School Calendar
END:VEVENT
BEGIN:VEVENT
DTSTART;VALUE=DATE:20170720
DTEND;VALUE=DATE:20170721
DTSTAMP:20260425T073453
CREATED:20170606T033338Z
LAST-MODIFIED:20170606T033338Z
UID:3772-1500508800-1500595199@www.arvadapreschool.com
SUMMARY:Walk to McDonalds - $7.00
DESCRIPTION:Day Camp
URL:https://www.arvadapreschool.com/event/walk-to-mcdonalds-7-00/
CATEGORIES:School Calendar
END:VEVENT
BEGIN:VEVENT
DTSTART;VALUE=DATE:20170721
DTEND;VALUE=DATE:20170722
DTSTAMP:20260425T073453
CREATED:20170606T033405Z
LAST-MODIFIED:20170606T033405Z
UID:3774-1500595200-1500681599@www.arvadapreschool.com
SUMMARY:Picnic at the park
DESCRIPTION:Day Camp:  Popsicles / Water Play
URL:https://www.arvadapreschool.com/event/picnic-at-the-park-10/
CATEGORIES:School Calendar
END:VEVENT
BEGIN:VEVENT
DTSTART;VALUE=DATE:20170724
DTEND;VALUE=DATE:20170725
DTSTAMP:20260425T073453
CREATED:20170606T033715Z
LAST-MODIFIED:20170606T033715Z
UID:3744-1500854400-1500940799@www.arvadapreschool.com
SUMMARY:Picnic at the park
DESCRIPTION:Day Camp
URL:https://www.arvadapreschool.com/event/picnic-at-the-park-11/
CATEGORIES:School Calendar
END:VEVENT
BEGIN:VEVENT
DTSTART;VALUE=DATE:20170725
DTEND;VALUE=DATE:20170726
DTSTAMP:20260425T073453
CREATED:20170606T033742Z
LAST-MODIFIED:20170606T033754Z
UID:3741-1500940800-1501027199@www.arvadapreschool.com
SUMMARY:Mis-Match clothes day / Painting with Althea - $10.00
DESCRIPTION:Day Camp
URL:https://www.arvadapreschool.com/event/mis-match-clothes-day-painting-with-althea-10-00/
CATEGORIES:School Calendar
END:VEVENT
BEGIN:VEVENT
DTSTART;VALUE=DATE:20170726
DTEND;VALUE=DATE:20170727
DTSTAMP:20260425T073453
CREATED:20170606T033821Z
LAST-MODIFIED:20170606T033821Z
UID:3797-1501027200-1501113599@www.arvadapreschool.com
SUMMARY:Beau Joes - $6.00
DESCRIPTION:Day Camp
URL:https://www.arvadapreschool.com/event/beau-joes-6-00-2/
CATEGORIES:School Calendar
END:VEVENT
BEGIN:VEVENT
DTSTART;VALUE=DATE:20170727
DTEND;VALUE=DATE:20170728
DTSTAMP:20260425T073453
CREATED:20170606T034020Z
LAST-MODIFIED:20170606T034020Z
UID:3785-1501113600-1501199999@www.arvadapreschool.com
SUMMARY:Crazy Hair Day
DESCRIPTION:Day Camp
URL:https://www.arvadapreschool.com/event/crazy-hair-day/
CATEGORIES:School Calendar
END:VEVENT
BEGIN:VEVENT
DTSTART;VALUE=DATE:20170728
DTEND;VALUE=DATE:20170729
DTSTAMP:20260425T073453
CREATED:20170606T033855Z
LAST-MODIFIED:20170606T033855Z
UID:3802-1501200000-1501286399@www.arvadapreschool.com
SUMMARY:Picnic at the Park
DESCRIPTION:Day Camp:  Popsicles / Water Play
URL:https://www.arvadapreschool.com/event/picnic-at-the-park-12/
CATEGORIES:School Calendar
END:VEVENT
BEGIN:VEVENT
DTSTART;VALUE=DATE:20170731
DTEND;VALUE=DATE:20170801
DTSTAMP:20260425T073453
CREATED:20170606T033905Z
LAST-MODIFIED:20170606T033905Z
UID:3786-1501459200-1501545599@www.arvadapreschool.com
SUMMARY:Picnic at the Park
DESCRIPTION:Day Camp
URL:https://www.arvadapreschool.com/event/picnic-at-the-park-13/
CATEGORIES:School Calendar
END:VEVENT
BEGIN:VEVENT
DTSTART;TZID=America/Denver:20170801T080000
DTEND;TZID=America/Denver:20170801T170000
DTSTAMP:20260425T073453
CREATED:20170606T034356Z
LAST-MODIFIED:20170606T034356Z
UID:3814-1501574400-1501606800@www.arvadapreschool.com
SUMMARY:Echter's Field Trip - 10am
DESCRIPTION:Day Camp
URL:https://www.arvadapreschool.com/event/echters-field-trip-10am/
CATEGORIES:School Calendar
END:VEVENT
BEGIN:VEVENT
DTSTART;VALUE=DATE:20170802
DTEND;VALUE=DATE:20170803
DTSTAMP:20260425T073453
CREATED:20170606T034359Z
LAST-MODIFIED:20170606T034359Z
UID:3789-1501632000-1501718399@www.arvadapreschool.com
SUMMARY:Students write a play
DESCRIPTION:Day Camp
URL:https://www.arvadapreschool.com/event/students-write-a-play/
CATEGORIES:School Calendar
END:VEVENT
BEGIN:VEVENT
DTSTART;VALUE=DATE:20170803
DTEND;VALUE=DATE:20170804
DTSTAMP:20260425T073453
CREATED:20170606T034347Z
LAST-MODIFIED:20170606T034347Z
UID:3791-1501718400-1501804799@www.arvadapreschool.com
SUMMARY:Start Working On Student Play
DESCRIPTION:Day Camp
URL:https://www.arvadapreschool.com/event/start-working-on-student-play/
CATEGORIES:School Calendar
END:VEVENT
BEGIN:VEVENT
DTSTART;VALUE=DATE:20170804
DTEND;VALUE=DATE:20170805
DTSTAMP:20260425T073453
CREATED:20170606T034341Z
LAST-MODIFIED:20170606T034341Z
UID:3792-1501804800-1501891199@www.arvadapreschool.com
SUMMARY:Picnic at the Park
DESCRIPTION:Day Camp:  Work on the Play More
URL:https://www.arvadapreschool.com/event/picnic-at-the-park-14/
CATEGORIES:School Calendar
END:VEVENT
BEGIN:VEVENT
DTSTART;VALUE=DATE:20170807
DTEND;VALUE=DATE:20170808
DTSTAMP:20260425T073453
CREATED:20170606T034619Z
LAST-MODIFIED:20170606T034619Z
UID:3826-1502064000-1502150399@www.arvadapreschool.com
SUMMARY:Picnic at the park
DESCRIPTION:Day Camp
URL:https://www.arvadapreschool.com/event/picnic-at-the-park-15/
CATEGORIES:School Calendar
END:VEVENT
BEGIN:VEVENT
DTSTART;VALUE=DATE:20170808
DTEND;VALUE=DATE:20170809
DTSTAMP:20260425T073453
CREATED:20170606T034642Z
LAST-MODIFIED:20170606T034642Z
UID:3827-1502150400-1502236799@www.arvadapreschool.com
SUMMARY:Plan for end of the year celebration
DESCRIPTION:Day Camp:   Work on play
URL:https://www.arvadapreschool.com/event/plan-for-end-of-the-year-celebration/
CATEGORIES:School Calendar
END:VEVENT
BEGIN:VEVENT
DTSTART;VALUE=DATE:20170809
DTEND;VALUE=DATE:20170810
DTSTAMP:20260425T073453
CREATED:20170606T034713Z
LAST-MODIFIED:20170606T034713Z
UID:3828-1502236800-1502323199@www.arvadapreschool.com
SUMMARY:Present play to students
DESCRIPTION:Day Camp:  Water play
URL:https://www.arvadapreschool.com/event/present-play-to-students/
CATEGORIES:School Calendar
END:VEVENT
BEGIN:VEVENT
DTSTART;VALUE=DATE:20170810
DTEND;VALUE=DATE:20170811
DTSTAMP:20260425T073453
CREATED:20170606T034733Z
LAST-MODIFIED:20170606T034733Z
UID:3794-1502323200-1502409599@www.arvadapreschool.com
SUMMARY:End of summer celebration
DESCRIPTION:Day Camp
URL:https://www.arvadapreschool.com/event/end-of-summer-celebration/
CATEGORIES:School Calendar
END:VEVENT
BEGIN:VEVENT
DTSTART;VALUE=DATE:20170811
DTEND;VALUE=DATE:20170812
DTSTAMP:20260425T073453
CREATED:20170606T034756Z
LAST-MODIFIED:20170606T034756Z
UID:3795-1502409600-1502495999@www.arvadapreschool.com
SUMMARY:Picnic at the park
DESCRIPTION:Day Camp:  Popsicles / Water Play
URL:https://www.arvadapreschool.com/event/picnic-at-the-park-16/
CATEGORIES:School Calendar
END:VEVENT
BEGIN:VEVENT
DTSTART;VALUE=DATE:20170831
DTEND;VALUE=DATE:20170902
DTSTAMP:20260425T073453
CREATED:20170606T035059Z
LAST-MODIFIED:20170606T035059Z
UID:3798-1504137600-1504310399@www.arvadapreschool.com
SUMMARY:CLOSED - Staff Training
DESCRIPTION:We will be closed these two days for an important staff training and preparing for the Fall.  Sorry for any inconvenience!
URL:https://www.arvadapreschool.com/event/closed-staff-training/
CATEGORIES:School Calendar
END:VEVENT
END:VCALENDAR