BEGIN:VCALENDAR
VERSION:2.0
PRODID:-//The Best Preschool and Kindergarten for the Arvada / Wheat Ridge / Denver Metro Area - ECPv6.15.20//NONSGML v1.0//EN
CALSCALE:GREGORIAN
METHOD:PUBLISH
X-ORIGINAL-URL:https://www.arvadapreschool.com
X-WR-CALDESC:Events for The Best Preschool and Kindergarten for the Arvada / Wheat Ridge / Denver Metro Area
REFRESH-INTERVAL;VALUE=DURATION:PT1H
X-Robots-Tag:noindex
X-PUBLISHED-TTL:PT1H
BEGIN:VTIMEZONE
TZID:America/Denver
BEGIN:DAYLIGHT
TZOFFSETFROM:-0700
TZOFFSETTO:-0600
TZNAME:MDT
DTSTART:20170312T090000
END:DAYLIGHT
BEGIN:STANDARD
TZOFFSETFROM:-0600
TZOFFSETTO:-0700
TZNAME:MST
DTSTART:20171105T080000
END:STANDARD
BEGIN:DAYLIGHT
TZOFFSETFROM:-0700
TZOFFSETTO:-0600
TZNAME:MDT
DTSTART:20180311T090000
END:DAYLIGHT
BEGIN:STANDARD
TZOFFSETFROM:-0600
TZOFFSETTO:-0700
TZNAME:MST
DTSTART:20181104T080000
END:STANDARD
BEGIN:DAYLIGHT
TZOFFSETFROM:-0700
TZOFFSETTO:-0600
TZNAME:MDT
DTSTART:20190310T090000
END:DAYLIGHT
BEGIN:STANDARD
TZOFFSETFROM:-0600
TZOFFSETTO:-0700
TZNAME:MST
DTSTART:20191103T080000
END:STANDARD
END:VTIMEZONE
BEGIN:VEVENT
DTSTART;VALUE=DATE:20180215
DTEND;VALUE=DATE:20180217
DTSTAMP:20260423T200025
CREATED:20170606T035743Z
LAST-MODIFIED:20170606T035743Z
UID:3844-1518652800-1518825599@www.arvadapreschool.com
SUMMARY:CLOSED - Teacher Training
DESCRIPTION:We will be closed these days for important teacher training and to plan our Spring curriculum.  We are sorry for any inconvenience.
URL:https://www.arvadapreschool.com/event/closed-teacher-training/
CATEGORIES:School Calendar
END:VEVENT
END:VCALENDAR