BEGIN:VCALENDAR
VERSION:2.0
PRODID:-//The Best Preschool and Kindergarten for the Arvada / Wheat Ridge / Denver Metro Area - ECPv6.15.20//NONSGML v1.0//EN
CALSCALE:GREGORIAN
METHOD:PUBLISH
X-WR-CALNAME:The Best Preschool and Kindergarten for the Arvada / Wheat Ridge / Denver Metro Area
X-ORIGINAL-URL:https://www.arvadapreschool.com
X-WR-CALDESC:Events for The Best Preschool and Kindergarten for the Arvada / Wheat Ridge / Denver Metro Area
REFRESH-INTERVAL;VALUE=DURATION:PT1H
X-Robots-Tag:noindex
X-PUBLISHED-TTL:PT1H
BEGIN:VTIMEZONE
TZID:America/Denver
BEGIN:DAYLIGHT
TZOFFSETFROM:-0700
TZOFFSETTO:-0600
TZNAME:MDT
DTSTART:20160313T090000
END:DAYLIGHT
BEGIN:STANDARD
TZOFFSETFROM:-0600
TZOFFSETTO:-0700
TZNAME:MST
DTSTART:20161106T080000
END:STANDARD
BEGIN:DAYLIGHT
TZOFFSETFROM:-0700
TZOFFSETTO:-0600
TZNAME:MDT
DTSTART:20170312T090000
END:DAYLIGHT
BEGIN:STANDARD
TZOFFSETFROM:-0600
TZOFFSETTO:-0700
TZNAME:MST
DTSTART:20171105T080000
END:STANDARD
BEGIN:DAYLIGHT
TZOFFSETFROM:-0700
TZOFFSETTO:-0600
TZNAME:MDT
DTSTART:20180311T090000
END:DAYLIGHT
BEGIN:STANDARD
TZOFFSETFROM:-0600
TZOFFSETTO:-0700
TZNAME:MST
DTSTART:20181104T080000
END:STANDARD
END:VTIMEZONE
BEGIN:VEVENT
DTSTART;VALUE=DATE:20170831
DTEND;VALUE=DATE:20170902
DTSTAMP:20260424T043746
CREATED:20170606T035059Z
LAST-MODIFIED:20170606T035059Z
UID:3798-1504137600-1504310399@www.arvadapreschool.com
SUMMARY:CLOSED - Staff Training
DESCRIPTION:We will be closed these two days for an important staff training and preparing for the Fall.  Sorry for any inconvenience!
URL:https://www.arvadapreschool.com/event/closed-staff-training/
CATEGORIES:School Calendar
END:VEVENT
BEGIN:VEVENT
DTSTART;VALUE=DATE:20170904
DTEND;VALUE=DATE:20170905
DTSTAMP:20260424T043746
CREATED:20170606T035225Z
LAST-MODIFIED:20170606T035336Z
UID:3839-1504483200-1504569599@www.arvadapreschool.com
SUMMARY:CLOSED - Labor Day
DESCRIPTION:Enjoy the holiday safely with friends and family!
URL:https://www.arvadapreschool.com/event/labor-day-2/
CATEGORIES:School Calendar
END:VEVENT
END:VCALENDAR