BEGIN:VCALENDAR
VERSION:2.0
PRODID:-//The Best Preschool and Kindergarten for the Arvada / Wheat Ridge / Denver Metro Area - ECPv6.15.20//NONSGML v1.0//EN
CALSCALE:GREGORIAN
METHOD:PUBLISH
X-WR-CALNAME:The Best Preschool and Kindergarten for the Arvada / Wheat Ridge / Denver Metro Area
X-ORIGINAL-URL:https://www.arvadapreschool.com
X-WR-CALDESC:Events for The Best Preschool and Kindergarten for the Arvada / Wheat Ridge / Denver Metro Area
REFRESH-INTERVAL;VALUE=DURATION:PT1H
X-Robots-Tag:noindex
X-PUBLISHED-TTL:PT1H
BEGIN:VTIMEZONE
TZID:America/Denver
BEGIN:DAYLIGHT
TZOFFSETFROM:-0700
TZOFFSETTO:-0600
TZNAME:MDT
DTSTART:20160313T090000
END:DAYLIGHT
BEGIN:STANDARD
TZOFFSETFROM:-0600
TZOFFSETTO:-0700
TZNAME:MST
DTSTART:20161106T080000
END:STANDARD
BEGIN:DAYLIGHT
TZOFFSETFROM:-0700
TZOFFSETTO:-0600
TZNAME:MDT
DTSTART:20170312T090000
END:DAYLIGHT
BEGIN:STANDARD
TZOFFSETFROM:-0600
TZOFFSETTO:-0700
TZNAME:MST
DTSTART:20171105T080000
END:STANDARD
BEGIN:DAYLIGHT
TZOFFSETFROM:-0700
TZOFFSETTO:-0600
TZNAME:MDT
DTSTART:20180311T090000
END:DAYLIGHT
BEGIN:STANDARD
TZOFFSETFROM:-0600
TZOFFSETTO:-0700
TZNAME:MST
DTSTART:20181104T080000
END:STANDARD
END:VTIMEZONE
BEGIN:VEVENT
DTSTART;TZID=America/Denver:20170801T080000
DTEND;TZID=America/Denver:20170801T170000
DTSTAMP:20260424T055549
CREATED:20170606T034356Z
LAST-MODIFIED:20170606T034356Z
UID:3814-1501574400-1501606800@www.arvadapreschool.com
SUMMARY:Echter's Field Trip - 10am
DESCRIPTION:Day Camp
URL:https://www.arvadapreschool.com/event/echters-field-trip-10am/
CATEGORIES:School Calendar
END:VEVENT
BEGIN:VEVENT
DTSTART;VALUE=DATE:20170802
DTEND;VALUE=DATE:20170803
DTSTAMP:20260424T055549
CREATED:20170606T034359Z
LAST-MODIFIED:20170606T034359Z
UID:3789-1501632000-1501718399@www.arvadapreschool.com
SUMMARY:Students write a play
DESCRIPTION:Day Camp
URL:https://www.arvadapreschool.com/event/students-write-a-play/
CATEGORIES:School Calendar
END:VEVENT
BEGIN:VEVENT
DTSTART;VALUE=DATE:20170803
DTEND;VALUE=DATE:20170804
DTSTAMP:20260424T055549
CREATED:20170606T034347Z
LAST-MODIFIED:20170606T034347Z
UID:3791-1501718400-1501804799@www.arvadapreschool.com
SUMMARY:Start Working On Student Play
DESCRIPTION:Day Camp
URL:https://www.arvadapreschool.com/event/start-working-on-student-play/
CATEGORIES:School Calendar
END:VEVENT
BEGIN:VEVENT
DTSTART;VALUE=DATE:20170804
DTEND;VALUE=DATE:20170805
DTSTAMP:20260424T055549
CREATED:20170606T034341Z
LAST-MODIFIED:20170606T034341Z
UID:3792-1501804800-1501891199@www.arvadapreschool.com
SUMMARY:Picnic at the Park
DESCRIPTION:Day Camp:  Work on the Play More
URL:https://www.arvadapreschool.com/event/picnic-at-the-park-14/
CATEGORIES:School Calendar
END:VEVENT
BEGIN:VEVENT
DTSTART;VALUE=DATE:20170807
DTEND;VALUE=DATE:20170808
DTSTAMP:20260424T055549
CREATED:20170606T034619Z
LAST-MODIFIED:20170606T034619Z
UID:3826-1502064000-1502150399@www.arvadapreschool.com
SUMMARY:Picnic at the park
DESCRIPTION:Day Camp
URL:https://www.arvadapreschool.com/event/picnic-at-the-park-15/
CATEGORIES:School Calendar
END:VEVENT
BEGIN:VEVENT
DTSTART;VALUE=DATE:20170808
DTEND;VALUE=DATE:20170809
DTSTAMP:20260424T055549
CREATED:20170606T034642Z
LAST-MODIFIED:20170606T034642Z
UID:3827-1502150400-1502236799@www.arvadapreschool.com
SUMMARY:Plan for end of the year celebration
DESCRIPTION:Day Camp:   Work on play
URL:https://www.arvadapreschool.com/event/plan-for-end-of-the-year-celebration/
CATEGORIES:School Calendar
END:VEVENT
BEGIN:VEVENT
DTSTART;VALUE=DATE:20170809
DTEND;VALUE=DATE:20170810
DTSTAMP:20260424T055549
CREATED:20170606T034713Z
LAST-MODIFIED:20170606T034713Z
UID:3828-1502236800-1502323199@www.arvadapreschool.com
SUMMARY:Present play to students
DESCRIPTION:Day Camp:  Water play
URL:https://www.arvadapreschool.com/event/present-play-to-students/
CATEGORIES:School Calendar
END:VEVENT
BEGIN:VEVENT
DTSTART;VALUE=DATE:20170810
DTEND;VALUE=DATE:20170811
DTSTAMP:20260424T055549
CREATED:20170606T034733Z
LAST-MODIFIED:20170606T034733Z
UID:3794-1502323200-1502409599@www.arvadapreschool.com
SUMMARY:End of summer celebration
DESCRIPTION:Day Camp
URL:https://www.arvadapreschool.com/event/end-of-summer-celebration/
CATEGORIES:School Calendar
END:VEVENT
BEGIN:VEVENT
DTSTART;VALUE=DATE:20170811
DTEND;VALUE=DATE:20170812
DTSTAMP:20260424T055549
CREATED:20170606T034756Z
LAST-MODIFIED:20170606T034756Z
UID:3795-1502409600-1502495999@www.arvadapreschool.com
SUMMARY:Picnic at the park
DESCRIPTION:Day Camp:  Popsicles / Water Play
URL:https://www.arvadapreschool.com/event/picnic-at-the-park-16/
CATEGORIES:School Calendar
END:VEVENT
BEGIN:VEVENT
DTSTART;VALUE=DATE:20170831
DTEND;VALUE=DATE:20170902
DTSTAMP:20260424T055549
CREATED:20170606T035059Z
LAST-MODIFIED:20170606T035059Z
UID:3798-1504137600-1504310399@www.arvadapreschool.com
SUMMARY:CLOSED - Staff Training
DESCRIPTION:We will be closed these two days for an important staff training and preparing for the Fall.  Sorry for any inconvenience!
URL:https://www.arvadapreschool.com/event/closed-staff-training/
CATEGORIES:School Calendar
END:VEVENT
END:VCALENDAR